BEGIN:VCALENDAR
VERSION:2.0
PRODID:-//Middlebury Chamber of Commerce - ECPv6.15.20//NONSGML v1.0//EN
CALSCALE:GREGORIAN
METHOD:PUBLISH
X-ORIGINAL-URL:https://middleburyinchamber.com
X-WR-CALDESC:Events for Middlebury Chamber of Commerce
REFRESH-INTERVAL;VALUE=DURATION:PT1H
X-Robots-Tag:noindex
X-PUBLISHED-TTL:PT1H
BEGIN:VTIMEZONE
TZID:America/Indiana/Indianapolis
BEGIN:DAYLIGHT
TZOFFSETFROM:-0500
TZOFFSETTO:-0400
TZNAME:EDT
DTSTART:20250309T070000
END:DAYLIGHT
BEGIN:STANDARD
TZOFFSETFROM:-0400
TZOFFSETTO:-0500
TZNAME:EST
DTSTART:20251102T060000
END:STANDARD
BEGIN:DAYLIGHT
TZOFFSETFROM:-0500
TZOFFSETTO:-0400
TZNAME:EDT
DTSTART:20260308T070000
END:DAYLIGHT
BEGIN:STANDARD
TZOFFSETFROM:-0400
TZOFFSETTO:-0500
TZNAME:EST
DTSTART:20261101T060000
END:STANDARD
BEGIN:DAYLIGHT
TZOFFSETFROM:-0500
TZOFFSETTO:-0400
TZNAME:EDT
DTSTART:20270314T070000
END:DAYLIGHT
BEGIN:STANDARD
TZOFFSETFROM:-0400
TZOFFSETTO:-0500
TZNAME:EST
DTSTART:20271107T060000
END:STANDARD
END:VTIMEZONE
BEGIN:VEVENT
DTSTART;TZID=America/Indiana/Indianapolis:20260608T170000
DTEND;TZID=America/Indiana/Indianapolis:20260608T200000
DTSTAMP:20260420T072703
CREATED:20250106T173031Z
LAST-MODIFIED:20260218T181506Z
UID:4476-1780938000-1780948800@middleburyinchamber.com
SUMMARY:Chamber Member's Annual Dinner and Business Expo
DESCRIPTION:Do not miss this opportunity to enjoy dinner and entertainment while marketing your products and services with other business participants. \nTweetShare0 Shares
URL:https://middleburyinchamber.com/event/dinner-and-business-expo/
LOCATION:Northridge High School\, 56779 Northridge Drive\, Middlebury\, IN\, 46540\, United States
END:VEVENT
END:VCALENDAR