BEGIN:VCALENDAR
VERSION:2.0
PRODID:-//Middlebury Chamber of Commerce - ECPv6.15.20//NONSGML v1.0//EN
CALSCALE:GREGORIAN
METHOD:PUBLISH
X-WR-CALNAME:Middlebury Chamber of Commerce
X-ORIGINAL-URL:https://middleburyinchamber.com
X-WR-CALDESC:Events for Middlebury Chamber of Commerce
REFRESH-INTERVAL;VALUE=DURATION:PT1H
X-Robots-Tag:noindex
X-PUBLISHED-TTL:PT1H
BEGIN:VTIMEZONE
TZID:America/Indiana/Indianapolis
BEGIN:DAYLIGHT
TZOFFSETFROM:-0500
TZOFFSETTO:-0400
TZNAME:EDT
DTSTART:20220313T070000
END:DAYLIGHT
BEGIN:STANDARD
TZOFFSETFROM:-0400
TZOFFSETTO:-0500
TZNAME:EST
DTSTART:20221106T060000
END:STANDARD
BEGIN:DAYLIGHT
TZOFFSETFROM:-0500
TZOFFSETTO:-0400
TZNAME:EDT
DTSTART:20230312T070000
END:DAYLIGHT
BEGIN:STANDARD
TZOFFSETFROM:-0400
TZOFFSETTO:-0500
TZNAME:EST
DTSTART:20231105T060000
END:STANDARD
BEGIN:DAYLIGHT
TZOFFSETFROM:-0500
TZOFFSETTO:-0400
TZNAME:EDT
DTSTART:20240310T070000
END:DAYLIGHT
BEGIN:STANDARD
TZOFFSETFROM:-0400
TZOFFSETTO:-0500
TZNAME:EST
DTSTART:20241103T060000
END:STANDARD
END:VTIMEZONE
BEGIN:VTIMEZONE
TZID:UTC
BEGIN:STANDARD
TZOFFSETFROM:+0000
TZOFFSETTO:+0000
TZNAME:UTC
DTSTART:20180101T000000
END:STANDARD
END:VTIMEZONE
BEGIN:VEVENT
DTSTART;TZID=America/Indiana/Indianapolis:20230613T170000
DTEND;TZID=America/Indiana/Indianapolis:20230613T200000
DTSTAMP:20260420T090152
CREATED:20220131T151627Z
LAST-MODIFIED:20230412T162222Z
UID:3049-1686675600-1686686400@middleburyinchamber.com
SUMMARY:20th Annual Dinner & Business Expo 2023
DESCRIPTION:20th Annual Dinner & Business Expo 2023The Middlebury Chamber of Commerce and Visitors Center\ncordially invites you to their\n20th Annual Dinner & Business Expo\nTuesday\, June 13\, 2023\n5:00 PM to 8:00 PM \nThe event will be held at\nNorthridge High School cafeteria\n56779 Northridge Drive\nEnter through door #15 or #21 \nInvite your spouse\, family\, friends\, key employees\, and special guests.\nClick the link to make your reservations online. (once available)\nReservations must be received by June 2nd. \nTo be included in the marketing material\, please register no later than May 26th. \nRegistration will be available online\, by phone\, or by mail. \nMake Check Payable to Middlebury Chamber of Commerce\nMail to: Middlebury Chamber of Commerce\nPO Box 243\, Middlebury\, IN 46540 \n \n \nTweetShare0 Shares
URL:https://middleburyinchamber.com/event/20th-annual-dinner-business-expo-2023/
LOCATION:Northridge High School\, 56779 Northridge Drive\, Middlebury\, IN\, 46540\, United States
ORGANIZER;CN="Middlebury Chamber of Commerce & Visitors Center":MAILTO:director@middleburyinchamber.com
END:VEVENT
BEGIN:VEVENT
DTSTART;TZID=UTC:20200310T173000
DTEND;TZID=UTC:20200310T203000
DTSTAMP:20260420T090152
CREATED:20200110T195525Z
LAST-MODIFIED:20200110T195525Z
UID:1803-1583861400-1583872200@middleburyinchamber.com
SUMMARY:Middlebury Chamber of Commerce & Visitors Center Annual Dinner & Business Expo
DESCRIPTION:TweetShare0 Shares
URL:https://middleburyinchamber.com/event/middlebury-chamber-of-commerce-visitors-center-annual-dinner-business-expo/
LOCATION:Northridge High School\, 56779 Northridge Drive\, Middlebury\, IN\, 46540\, United States
ORGANIZER;CN="Middlebury Chamber of Commerce & Visitors Center":MAILTO:director@middleburyinchamber.com
END:VEVENT
BEGIN:VEVENT
DTSTART;TZID=UTC:20190518T080000
DTEND;TZID=UTC:20190518T140000
DTSTAMP:20260420T090152
CREATED:20190206T230405Z
LAST-MODIFIED:20190206T230405Z
UID:1166-1558166400-1558188000@middleburyinchamber.com
SUMMARY:Annual ADEC Ride-A-Bike
DESCRIPTION:ADEC Walk\, Run or Ride-A-Bike features 5-\, 18-\,45-\, and 65-mile bike rides starting at Northridge High School. “Color Our World” 5k color run begins at 8:30 am \nTweetShare0 Shares
URL:https://middleburyinchamber.com/event/annual-adec-ride-a-bike/
LOCATION:Northridge High School\, 56779 Northridge Drive\, Middlebury\, IN\, 46540\, United States
END:VEVENT
BEGIN:VEVENT
DTSTART;TZID=UTC:20190312T173000
DTEND;TZID=UTC:20190312T203000
DTSTAMP:20260420T090152
CREATED:20190201T232540Z
LAST-MODIFIED:20190201T233256Z
UID:715-1552411800-1552422600@middleburyinchamber.com
SUMMARY:Middlebury Chamber of Commerce & Visitors Center Annual Dinner & Business Expo
DESCRIPTION:Featuring \nState of the Town\, Mary Cripe \nElkhart Score Chapter Lends a Hand\, Chair Janet Evanega \nEvent will be held at Northridge High School Cafeteria ~Invite your spouse\, family\, friends key employees and special guest.  Reservations must be received by March 1st. In order to be included in the marketing material\, please register no later than February 25th. Registration will be available online\, by phone or mail. \nPlease contact the office at 574.825.4300 for online registration information\, phone registration or if you have not received confirmation of registration by March 1st. REGISTER NOW! \nTweetShare0 Shares
URL:https://middleburyinchamber.com/event/middlebury-chamber-of-commerce-visiotrs-center-annual-dinner-business-expo/
LOCATION:Northridge High School\, 56779 Northridge Drive\, Middlebury\, IN\, 46540\, United States
ORGANIZER;CN="Middlebury Chamber of Commerce & Visitors Center":MAILTO:director@middleburyinchamber.com
END:VEVENT
END:VCALENDAR