BEGIN:VCALENDAR
VERSION:2.0
PRODID:-//Middlebury Chamber of Commerce - ECPv6.15.20//NONSGML v1.0//EN
CALSCALE:GREGORIAN
METHOD:PUBLISH
X-WR-CALNAME:Middlebury Chamber of Commerce
X-ORIGINAL-URL:https://middleburyinchamber.com
X-WR-CALDESC:Events for Middlebury Chamber of Commerce
REFRESH-INTERVAL;VALUE=DURATION:PT1H
X-Robots-Tag:noindex
X-PUBLISHED-TTL:PT1H
BEGIN:VTIMEZONE
TZID:UTC
BEGIN:STANDARD
TZOFFSETFROM:+0000
TZOFFSETTO:+0000
TZNAME:UTC
DTSTART:20180101T000000
END:STANDARD
END:VTIMEZONE
BEGIN:VEVENT
DTSTART;TZID=UTC:20190522T080000
DTEND;TZID=UTC:20190522T170000
DTSTAMP:20260420T142134
CREATED:20190202T005539Z
LAST-MODIFIED:20190202T005539Z
UID:742-1558512000-1558544400@middleburyinchamber.com
SUMMARY:Middlebury Town Center Committee Meeting
DESCRIPTION:TweetShare0 Shares
URL:https://middleburyinchamber.com/event/middlebury-town-center-committee-meeting-5/
LOCATION:Middlebury Community Public Library\, 101 E Winslow Street\, IN\, 46540\, United States
ORGANIZER;CN="Middlebury Chamber of Commerce & Visitors Center":MAILTO:director@middleburyinchamber.com
END:VEVENT
BEGIN:VEVENT
DTSTART;TZID=UTC:20190424T090000
DTEND;TZID=UTC:20190424T103000
DTSTAMP:20260420T142134
CREATED:20190202T005316Z
LAST-MODIFIED:20190202T005316Z
UID:740-1556096400-1556101800@middleburyinchamber.com
SUMMARY:Middlebury Town Center Committee Meeting
DESCRIPTION:TweetShare0 Shares
URL:https://middleburyinchamber.com/event/middlebury-town-center-committee-meeting-4/
LOCATION:Middlebury Community Public Library\, 101 E Winslow Street\, IN\, 46540\, United States
ORGANIZER;CN="Middlebury Chamber of Commerce & Visitors Center":MAILTO:director@middleburyinchamber.com
END:VEVENT
BEGIN:VEVENT
DTSTART;TZID=UTC:20190327T090000
DTEND;TZID=UTC:20190327T103000
DTSTAMP:20260420T142134
CREATED:20190202T005139Z
LAST-MODIFIED:20190202T005139Z
UID:738-1553677200-1553682600@middleburyinchamber.com
SUMMARY:Middlebury Town Center Committee Meeting
DESCRIPTION:TweetShare0 Shares
URL:https://middleburyinchamber.com/event/middlebury-town-center-committee-meeting-3/
LOCATION:Middlebury Community Public Library\, 101 E Winslow Street\, IN\, 46540\, United States
ORGANIZER;CN="Middlebury Chamber of Commerce & Visitors Center":MAILTO:director@middleburyinchamber.com
END:VEVENT
BEGIN:VEVENT
DTSTART;TZID=UTC:20190227T090000
DTEND;TZID=UTC:20190227T103000
DTSTAMP:20260420T142134
CREATED:20190202T004946Z
LAST-MODIFIED:20190202T004946Z
UID:736-1551258000-1551263400@middleburyinchamber.com
SUMMARY:Middlebury Town Center Committee Meeting
DESCRIPTION:TweetShare0 Shares
URL:https://middleburyinchamber.com/event/middlebury-town-center-committee-meeting-2/
LOCATION:Middlebury Community Public Library\, 101 E Winslow Street\, IN\, 46540\, United States
ORGANIZER;CN="Middlebury Chamber of Commerce & Visitors Center":MAILTO:director@middleburyinchamber.com
END:VEVENT
END:VCALENDAR