BEGIN:VCALENDAR
VERSION:2.0
PRODID:-//Middlebury Chamber of Commerce - ECPv6.15.20//NONSGML v1.0//EN
CALSCALE:GREGORIAN
METHOD:PUBLISH
X-WR-CALNAME:Middlebury Chamber of Commerce
X-ORIGINAL-URL:https://middleburyinchamber.com
X-WR-CALDESC:Events for Middlebury Chamber of Commerce
REFRESH-INTERVAL;VALUE=DURATION:PT1H
X-Robots-Tag:noindex
X-PUBLISHED-TTL:PT1H
BEGIN:VTIMEZONE
TZID:America/Indiana/Indianapolis
BEGIN:DAYLIGHT
TZOFFSETFROM:-0500
TZOFFSETTO:-0400
TZNAME:EDT
DTSTART:20200308T070000
END:DAYLIGHT
BEGIN:STANDARD
TZOFFSETFROM:-0400
TZOFFSETTO:-0500
TZNAME:EST
DTSTART:20201101T060000
END:STANDARD
BEGIN:DAYLIGHT
TZOFFSETFROM:-0500
TZOFFSETTO:-0400
TZNAME:EDT
DTSTART:20210314T070000
END:DAYLIGHT
BEGIN:STANDARD
TZOFFSETFROM:-0400
TZOFFSETTO:-0500
TZNAME:EST
DTSTART:20211107T060000
END:STANDARD
BEGIN:DAYLIGHT
TZOFFSETFROM:-0500
TZOFFSETTO:-0400
TZNAME:EDT
DTSTART:20220313T070000
END:DAYLIGHT
BEGIN:STANDARD
TZOFFSETFROM:-0400
TZOFFSETTO:-0500
TZNAME:EST
DTSTART:20221106T060000
END:STANDARD
BEGIN:DAYLIGHT
TZOFFSETFROM:-0500
TZOFFSETTO:-0400
TZNAME:EDT
DTSTART:20230312T070000
END:DAYLIGHT
BEGIN:STANDARD
TZOFFSETFROM:-0400
TZOFFSETTO:-0500
TZNAME:EST
DTSTART:20231105T060000
END:STANDARD
END:VTIMEZONE
BEGIN:VTIMEZONE
TZID:UTC
BEGIN:STANDARD
TZOFFSETFROM:+0000
TZOFFSETTO:+0000
TZNAME:UTC
DTSTART:20180101T000000
END:STANDARD
END:VTIMEZONE
BEGIN:VEVENT
DTSTART;TZID=America/Indiana/Indianapolis:20220222T180000
DTEND;TZID=America/Indiana/Indianapolis:20220222T190000
DTSTAMP:20260420T114033
CREATED:20220203T193953Z
LAST-MODIFIED:20220203T193953Z
UID:3075-1645552800-1645556400@middleburyinchamber.com
SUMMARY:Summer Festival Meeting
DESCRIPTION:TweetShare0 Shares
URL:https://middleburyinchamber.com/event/summer-festival-meeting/
LOCATION:Middlebury Community Public Library\, 101 E Winslow Street\, IN\, 46540\, United States
ORGANIZER;CN="Middlebury Chamber of Commerce & Visitors Center":MAILTO:director@middleburyinchamber.com
END:VEVENT
BEGIN:VEVENT
DTSTART;TZID=America/Indiana/Indianapolis:20220124T180000
DTEND;TZID=America/Indiana/Indianapolis:20220124T190000
DTSTAMP:20260420T114033
CREATED:20220114T210012Z
LAST-MODIFIED:20220114T210012Z
UID:3027-1643047200-1643050800@middleburyinchamber.com
SUMMARY:Middlebury Summer Festival Meeting
DESCRIPTION:Hello All\,\nFor 40 plus years\, the Middlebury Summer Festival has served as the town’s homecoming. It has been a time for Middlebury residents\, old and new\, to come together to celebrate. \nThis has been possible because of the generous donations of volunteers and local businesses to plan\, coordinate\, and fund the festival. In November\, the current Summer festival committee decided that it was time to step back after several years on the committee and give others a chance to serve. \nThe resignation of the committee chairs has provided an opportunity to reevaluate the future of the festival. Some options include leaving the festival at its current date\, changing the date\, eliminating the summer festival\, and folding some of the activities into the fall festival. \nDo you remember bed races\, the dunk tank\, 3 on 3 basketball tournaments\, pancake breakfast\, the parade\, and kids’ activities? If you would like to see these continue or have any suggestions for the festival\, please attend on January 24\, 6:00 p.m.\, at the Middlebury Public Library. \nIf you cannot make the meeting but have ideas or want to volunteer\, you can also contact:\nMiddlebury Chamber of Commerce; 574-825-4300 (director@middleburyinchamber.com\, carmencarpenter@middleburyinchamber.com )\nVarn’s and Hoover Hardware\, 574-825-2705\nAffairs to Remember Bridal Shoppe 574-825-1404\nVolunteer opportunities include organizing or participating in the following events/activities:\n• Sponsorships\n• Food Vendors\n• Arts and Crafts\n• Kids Activities\n• Entertainment (Music Groups\, Dancers\, etc.)\n• Water Ball Competition\n• Bed or Buggy Races\n• Road Run/Walk\n• 3 on 3 Basketball Tournament\n• Corn Hole Tournament\n• Merchant Sidewalk Sales (Someone needed to coordinate with the Merchants)\n• Fund Raisers\n• Set-up/tear down\n• Cleaning the park during the Festival\n• Work the Information booth \nThank you for your continued support\,\nMiddlebury Summer Festival Volunteers \nTweetShare0 Shares
URL:https://middleburyinchamber.com/event/middlebury-summer-festival-meeting/
LOCATION:Middlebury Community Public Library\, 101 E Winslow Street\, IN\, 46540\, United States
ORGANIZER;CN="Middlebury Chamber of Commerce & Visitors Center":MAILTO:director@middleburyinchamber.com
END:VEVENT
BEGIN:VEVENT
DTSTART;TZID=America/Indiana/Indianapolis:20210818T180000
DTEND;TZID=America/Indiana/Indianapolis:20210818T200000
DTSTAMP:20260420T114033
CREATED:20210817T174827Z
LAST-MODIFIED:20210817T174827Z
UID:2799-1629309600-1629316800@middleburyinchamber.com
SUMMARY:Middlebury Town Center Meeting
DESCRIPTION:TweetShare0 Shares
URL:https://middleburyinchamber.com/event/middlebury-town-center-meeting/
LOCATION:Middlebury Community Public Library\, 101 E Winslow Street\, IN\, 46540\, United States
ORGANIZER;CN="Middlebury Chamber of Commerce & Visitors Center":MAILTO:director@middleburyinchamber.com
END:VEVENT
BEGIN:VEVENT
DTSTART;TZID=UTC:20191211T090000
DTEND;TZID=UTC:20191211T103000
DTSTAMP:20260420T114033
CREATED:20190202T010509Z
LAST-MODIFIED:20190202T010700Z
UID:754-1576054800-1576060200@middleburyinchamber.com
SUMMARY:Middlebury Town Center Committee Meeting
DESCRIPTION:TweetShare0 Shares
URL:https://middleburyinchamber.com/event/middlebury-town-center-committee-meeting-8/
LOCATION:Middlebury Community Public Library\, 101 E Winslow Street\, IN\, 46540\, United States
ORGANIZER;CN="Middlebury Chamber of Commerce & Visitors Center":MAILTO:director@middleburyinchamber.com
END:VEVENT
BEGIN:VEVENT
DTSTART;TZID=UTC:20191120T090000
DTEND;TZID=UTC:20191120T103000
DTSTAMP:20260420T114033
CREATED:20190202T010351Z
LAST-MODIFIED:20190202T011451Z
UID:752-1574240400-1574245800@middleburyinchamber.com
SUMMARY:Middlebury Town Center Committee Meeting
DESCRIPTION:TweetShare0 Shares
URL:https://middleburyinchamber.com/event/middlebury-town-center-committee-meeting-7/
LOCATION:Middlebury Community Public Library\, 101 E Winslow Street\, IN\, 46540\, United States
ORGANIZER;CN="Middlebury Chamber of Commerce & Visitors Center":MAILTO:director@middleburyinchamber.com
END:VEVENT
BEGIN:VEVENT
DTSTART;TZID=UTC:20190828T090000
DTEND;TZID=UTC:20190828T103000
DTSTAMP:20260420T114033
CREATED:20190202T010157Z
LAST-MODIFIED:20190202T010157Z
UID:748-1566982800-1566988200@middleburyinchamber.com
SUMMARY:Town Center Committee Meeting
DESCRIPTION:TweetShare0 Shares
URL:https://middleburyinchamber.com/event/town-center-committee-meeting/2019-08-28/
LOCATION:Middlebury Community Public Library\, 101 E Winslow Street\, IN\, 46540\, United States
ORGANIZER;CN="Middlebury Chamber of Commerce & Visitors Center":MAILTO:director@middleburyinchamber.com
END:VEVENT
BEGIN:VEVENT
DTSTART;TZID=UTC:20190626T080000
DTEND;TZID=UTC:20190626T170000
DTSTAMP:20260420T114033
CREATED:20190202T005709Z
LAST-MODIFIED:20190202T005709Z
UID:744-1561536000-1561568400@middleburyinchamber.com
SUMMARY:Middlebury Town Center Committee Meeting
DESCRIPTION:TweetShare0 Shares
URL:https://middleburyinchamber.com/event/middlebury-town-center-committee-meeting-6/
LOCATION:Middlebury Community Public Library\, 101 E Winslow Street\, IN\, 46540\, United States
ORGANIZER;CN="Middlebury Chamber of Commerce & Visitors Center":MAILTO:director@middleburyinchamber.com
END:VEVENT
BEGIN:VEVENT
DTSTART;TZID=UTC:20190611T183000
DTEND;TZID=UTC:20190611T193000
DTSTAMP:20260420T114033
CREATED:20190208T011725Z
LAST-MODIFIED:20190208T015303Z
UID:1209-1560277800-1560281400@middleburyinchamber.com
SUMMARY:Historic Middlebury Guided Walking Tours
DESCRIPTION:Gangsters\, Saloons & Buggies on Roofs walking tour. Fee: $5 \nTweetShare0 Shares
URL:https://middleburyinchamber.com/event/historic-middlebury-guided-walking-tours-2/2019-06-11/
LOCATION:Middlebury Community Public Library\, 101 E Winslow Street\, IN\, 46540\, United States
END:VEVENT
BEGIN:VEVENT
DTSTART;TZID=UTC:20190601T090000
DTEND;TZID=UTC:20190601T160000
DTSTAMP:20260420T114033
CREATED:20190205T005306Z
LAST-MODIFIED:20190205T005306Z
UID:1077-1559379600-1559404800@middleburyinchamber.com
SUMMARY:Middlebury Literary Carousel
DESCRIPTION:June 1st 9 am-4 pm sessions & activities.  Session content includes authors & presenters for children\, teen & adults as well as activities for all ages.  Activities and sessions will be held at the library\, Memorial Park & East Park.  All sessions/activities are free of charge. \nTweetShare0 Shares
URL:https://middleburyinchamber.com/event/middlebury-literary-carousel/
LOCATION:Middlebury Community Public Library\, 101 E Winslow Street\, IN\, 46540\, United States
END:VEVENT
BEGIN:VEVENT
DTSTART;TZID=UTC:20190529T100000
DTEND;TZID=UTC:20190529T110000
DTSTAMP:20260420T114033
CREATED:20190208T010923Z
LAST-MODIFIED:20190212T205240Z
UID:1190-1559124000-1559127600@middleburyinchamber.com
SUMMARY:Historic Middlebury Guided Walking Tours
DESCRIPTION:Gangsters\, Saloons & Buggies on Roofs walking tour. Fee: $5 \nTweetShare0 Shares
URL:https://middleburyinchamber.com/event/historic-middlebury-guided-walking-tours/2019-05-29/
LOCATION:Middlebury Community Public Library\, 101 E Winslow Street\, IN\, 46540\, United States
END:VEVENT
BEGIN:VEVENT
DTSTART;TZID=UTC:20190522T080000
DTEND;TZID=UTC:20190522T170000
DTSTAMP:20260420T114033
CREATED:20190202T005539Z
LAST-MODIFIED:20190202T005539Z
UID:742-1558512000-1558544400@middleburyinchamber.com
SUMMARY:Middlebury Town Center Committee Meeting
DESCRIPTION:TweetShare0 Shares
URL:https://middleburyinchamber.com/event/middlebury-town-center-committee-meeting-5/
LOCATION:Middlebury Community Public Library\, 101 E Winslow Street\, IN\, 46540\, United States
ORGANIZER;CN="Middlebury Chamber of Commerce & Visitors Center":MAILTO:director@middleburyinchamber.com
END:VEVENT
BEGIN:VEVENT
DTSTART;TZID=UTC:20190424T090000
DTEND;TZID=UTC:20190424T103000
DTSTAMP:20260420T114033
CREATED:20190202T005316Z
LAST-MODIFIED:20190202T005316Z
UID:740-1556096400-1556101800@middleburyinchamber.com
SUMMARY:Middlebury Town Center Committee Meeting
DESCRIPTION:TweetShare0 Shares
URL:https://middleburyinchamber.com/event/middlebury-town-center-committee-meeting-4/
LOCATION:Middlebury Community Public Library\, 101 E Winslow Street\, IN\, 46540\, United States
ORGANIZER;CN="Middlebury Chamber of Commerce & Visitors Center":MAILTO:director@middleburyinchamber.com
END:VEVENT
BEGIN:VEVENT
DTSTART;TZID=UTC:20190327T090000
DTEND;TZID=UTC:20190327T103000
DTSTAMP:20260420T114033
CREATED:20190202T005139Z
LAST-MODIFIED:20190202T005139Z
UID:738-1553677200-1553682600@middleburyinchamber.com
SUMMARY:Middlebury Town Center Committee Meeting
DESCRIPTION:TweetShare0 Shares
URL:https://middleburyinchamber.com/event/middlebury-town-center-committee-meeting-3/
LOCATION:Middlebury Community Public Library\, 101 E Winslow Street\, IN\, 46540\, United States
ORGANIZER;CN="Middlebury Chamber of Commerce & Visitors Center":MAILTO:director@middleburyinchamber.com
END:VEVENT
BEGIN:VEVENT
DTSTART;TZID=UTC:20190227T090000
DTEND;TZID=UTC:20190227T103000
DTSTAMP:20260420T114033
CREATED:20190202T004946Z
LAST-MODIFIED:20190202T004946Z
UID:736-1551258000-1551263400@middleburyinchamber.com
SUMMARY:Middlebury Town Center Committee Meeting
DESCRIPTION:TweetShare0 Shares
URL:https://middleburyinchamber.com/event/middlebury-town-center-committee-meeting-2/
LOCATION:Middlebury Community Public Library\, 101 E Winslow Street\, IN\, 46540\, United States
ORGANIZER;CN="Middlebury Chamber of Commerce & Visitors Center":MAILTO:director@middleburyinchamber.com
END:VEVENT
END:VCALENDAR