BEGIN:VCALENDAR
VERSION:2.0
PRODID:-//Middlebury Chamber of Commerce - ECPv6.15.20//NONSGML v1.0//EN
CALSCALE:GREGORIAN
METHOD:PUBLISH
X-WR-CALNAME:Middlebury Chamber of Commerce
X-ORIGINAL-URL:https://middleburyinchamber.com
X-WR-CALDESC:Events for Middlebury Chamber of Commerce
REFRESH-INTERVAL;VALUE=DURATION:PT1H
X-Robots-Tag:noindex
X-PUBLISHED-TTL:PT1H
BEGIN:VTIMEZONE
TZID:America/Indiana/Indianapolis
BEGIN:DAYLIGHT
TZOFFSETFROM:-0500
TZOFFSETTO:-0400
TZNAME:EDT
DTSTART:20240310T070000
END:DAYLIGHT
BEGIN:STANDARD
TZOFFSETFROM:-0400
TZOFFSETTO:-0500
TZNAME:EST
DTSTART:20241103T060000
END:STANDARD
BEGIN:DAYLIGHT
TZOFFSETFROM:-0500
TZOFFSETTO:-0400
TZNAME:EDT
DTSTART:20250309T070000
END:DAYLIGHT
BEGIN:STANDARD
TZOFFSETFROM:-0400
TZOFFSETTO:-0500
TZNAME:EST
DTSTART:20251102T060000
END:STANDARD
BEGIN:DAYLIGHT
TZOFFSETFROM:-0500
TZOFFSETTO:-0400
TZNAME:EDT
DTSTART:20260308T070000
END:DAYLIGHT
BEGIN:STANDARD
TZOFFSETFROM:-0400
TZOFFSETTO:-0500
TZNAME:EST
DTSTART:20261101T060000
END:STANDARD
END:VTIMEZONE
BEGIN:VEVENT
DTSTART;TZID=America/Indiana/Indianapolis:20250812T170000
DTEND;TZID=America/Indiana/Indianapolis:20250812T190000
DTSTAMP:20260421T011540
CREATED:20250806T195355Z
LAST-MODIFIED:20250806T195355Z
UID:4668-1755018000-1755025200@middleburyinchamber.com
SUMMARY:After Hours with All Things Snacks
DESCRIPTION:Business After Hours hosted by All Things Snacks\nAugust 12 from 5 – 7 pm\n335 N Main St in Middlebury\, also known as The Creamery\n\n\nPlease join us for an evening of food and fun as we celebrate the 1 Year Anniversary of All Things Snacks location in Middlebury! Be ready to sample snacks\, network and experience the atmosphere.\n\n\nWith two locations\, Elkhart and Middlebury\, All Things Snacks is here to help with cravings\, both sweet and salty. The Middlebury location is your prime place for a full-on snack experience. We are more than just puffs!\n\n\nFree to attend; pre-registration requested a https://www.elkhart.org/…/business-after-hours-hosted…/
URL:https://middleburyinchamber.com/event/after-hours-with-all-things-snacks/
LOCATION:The Creamery on Main\, 335 N. Main Street\, Middlebury\, IN\, 46540\, United States
END:VEVENT
BEGIN:VEVENT
DTSTART;TZID=America/Indiana/Indianapolis:20250823T183000
DTEND;TZID=America/Indiana/Indianapolis:20250823T203000
DTSTAMP:20260421T011540
CREATED:20250814T142322Z
LAST-MODIFIED:20250814T142346Z
UID:4678-1755973800-1755981000@middleburyinchamber.com
SUMMARY:Music at West on Warren
DESCRIPTION:August 15 Peck N Fry \nAugust 23 Marcus Klingman \n 
URL:https://middleburyinchamber.com/event/music-at-west-on-warren/
END:VEVENT
END:VCALENDAR