BEGIN:VCALENDAR
VERSION:2.0
PRODID:-//Middlebury Chamber of Commerce - ECPv6.15.20//NONSGML v1.0//EN
CALSCALE:GREGORIAN
METHOD:PUBLISH
X-WR-CALNAME:Middlebury Chamber of Commerce
X-ORIGINAL-URL:https://middleburyinchamber.com
X-WR-CALDESC:Events for Middlebury Chamber of Commerce
REFRESH-INTERVAL;VALUE=DURATION:PT1H
X-Robots-Tag:noindex
X-PUBLISHED-TTL:PT1H
BEGIN:VTIMEZONE
TZID:America/Indiana/Indianapolis
BEGIN:DAYLIGHT
TZOFFSETFROM:-0500
TZOFFSETTO:-0400
TZNAME:EDT
DTSTART:20240310T070000
END:DAYLIGHT
BEGIN:STANDARD
TZOFFSETFROM:-0400
TZOFFSETTO:-0500
TZNAME:EST
DTSTART:20241103T060000
END:STANDARD
BEGIN:DAYLIGHT
TZOFFSETFROM:-0500
TZOFFSETTO:-0400
TZNAME:EDT
DTSTART:20250309T070000
END:DAYLIGHT
BEGIN:STANDARD
TZOFFSETFROM:-0400
TZOFFSETTO:-0500
TZNAME:EST
DTSTART:20251102T060000
END:STANDARD
BEGIN:DAYLIGHT
TZOFFSETFROM:-0500
TZOFFSETTO:-0400
TZNAME:EDT
DTSTART:20260308T070000
END:DAYLIGHT
BEGIN:STANDARD
TZOFFSETFROM:-0400
TZOFFSETTO:-0500
TZNAME:EST
DTSTART:20261101T060000
END:STANDARD
END:VTIMEZONE
BEGIN:VEVENT
DTSTART;TZID=America/Indiana/Indianapolis:20250712T183000
DTEND;TZID=America/Indiana/Indianapolis:20250712T203000
DTSTAMP:20260421T023129
CREATED:20250702T155825Z
LAST-MODIFIED:20250702T155847Z
UID:4649-1752345000-1752352200@middleburyinchamber.com
SUMMARY:West on Warren
DESCRIPTION:Music Line up for July \nPaul Decker \n 
URL:https://middleburyinchamber.com/event/west-on-warren-15/
LOCATION:West On Warren\, 200 West Warren Street\, Middlebury\, IN\, 46540\, United States
END:VEVENT
BEGIN:VEVENT
DTSTART;TZID=America/Indiana/Indianapolis:20250715T180000
DTEND;TZID=America/Indiana/Indianapolis:20250715T200000
DTSTAMP:20260421T023129
CREATED:20250702T160133Z
LAST-MODIFIED:20250702T160133Z
UID:4651-1752602400-1752609600@middleburyinchamber.com
SUMMARY:West on Warren
DESCRIPTION:Music Line up for July \n  \nOne Lane Bridge
URL:https://middleburyinchamber.com/event/west-on-warren-16/
LOCATION:West On Warren\, 200 West Warren Street\, Middlebury\, IN\, 46540\, United States
END:VEVENT
BEGIN:VEVENT
DTSTART;TZID=America/Indiana/Indianapolis:20250719T183000
DTEND;TZID=America/Indiana/Indianapolis:20250719T203000
DTSTAMP:20260421T023129
CREATED:20250702T160225Z
LAST-MODIFIED:20250702T160225Z
UID:4653-1752949800-1752957000@middleburyinchamber.com
SUMMARY:West on Warren
DESCRIPTION:Music Line up for July \n  \nKeith Miller
URL:https://middleburyinchamber.com/event/west-on-warren-17/
LOCATION:West On Warren\, 200 West Warren Street\, Middlebury\, IN\, 46540\, United States
END:VEVENT
BEGIN:VEVENT
DTSTART;TZID=America/Indiana/Indianapolis:20250726T183000
DTEND;TZID=America/Indiana/Indianapolis:20250726T203000
DTSTAMP:20260421T023129
CREATED:20250702T160322Z
LAST-MODIFIED:20250702T160322Z
UID:4655-1753554600-1753561800@middleburyinchamber.com
SUMMARY:West on Warren
DESCRIPTION:Music Line up for July
URL:https://middleburyinchamber.com/event/west-on-warren-18/
LOCATION:West On Warren\, 200 West Warren Street\, Middlebury\, IN\, 46540\, United States
END:VEVENT
END:VCALENDAR