BEGIN:VCALENDAR
VERSION:2.0
PRODID:-//Middlebury Chamber of Commerce - ECPv6.15.20//NONSGML v1.0//EN
CALSCALE:GREGORIAN
METHOD:PUBLISH
X-ORIGINAL-URL:https://middleburyinchamber.com
X-WR-CALDESC:Events for Middlebury Chamber of Commerce
REFRESH-INTERVAL;VALUE=DURATION:PT1H
X-Robots-Tag:noindex
X-PUBLISHED-TTL:PT1H
BEGIN:VTIMEZONE
TZID:America/Indiana/Indianapolis
BEGIN:DAYLIGHT
TZOFFSETFROM:-0500
TZOFFSETTO:-0400
TZNAME:EDT
DTSTART:20240310T070000
END:DAYLIGHT
BEGIN:STANDARD
TZOFFSETFROM:-0400
TZOFFSETTO:-0500
TZNAME:EST
DTSTART:20241103T060000
END:STANDARD
BEGIN:DAYLIGHT
TZOFFSETFROM:-0500
TZOFFSETTO:-0400
TZNAME:EDT
DTSTART:20250309T070000
END:DAYLIGHT
BEGIN:STANDARD
TZOFFSETFROM:-0400
TZOFFSETTO:-0500
TZNAME:EST
DTSTART:20251102T060000
END:STANDARD
BEGIN:DAYLIGHT
TZOFFSETFROM:-0500
TZOFFSETTO:-0400
TZNAME:EDT
DTSTART:20260308T070000
END:DAYLIGHT
BEGIN:STANDARD
TZOFFSETFROM:-0400
TZOFFSETTO:-0500
TZNAME:EST
DTSTART:20261101T060000
END:STANDARD
END:VTIMEZONE
BEGIN:VEVENT
DTSTART;TZID=America/Indiana/Indianapolis:20250504T100000
DTEND;TZID=America/Indiana/Indianapolis:20250504T150000
DTSTAMP:20260421T062616
CREATED:20250305T174658Z
LAST-MODIFIED:20250305T174658Z
UID:4544-1746352800-1746370800@middleburyinchamber.com
SUMMARY:Upcoming Free Concert The Helmsmen
DESCRIPTION:On Sunday\, May 4th\, The Joy of Music Concert Series is proud to present The Helmsmen\, a Southern Gospel singing group. They will perform at the 10:00 a.m. worship service and again at a 2:00 p.m. community gospel music service at the First United Methodist Church\, 720 S. Main Street\, Middlebury. This is a free concert\, but a free will offering for the group will be received. The community is invited.
URL:https://middleburyinchamber.com/event/upcoming-free-concert-the-helmsmen/
LOCATION:First United Methodist Church\, 720 S. Main Street\, Middlebury\, IN\, 46540\, United States
END:VEVENT
BEGIN:VEVENT
DTSTART;TZID=America/Indiana/Indianapolis:20250510T183000
DTEND;TZID=America/Indiana/Indianapolis:20250510T203000
DTSTAMP:20260421T062616
CREATED:20250225T163734Z
LAST-MODIFIED:20250225T163734Z
UID:4511-1746901800-1746909000@middleburyinchamber.com
SUMMARY:West on Warren Music Line Up May
DESCRIPTION:10th Paul Decker\n17th Doug Harsch\n31st Marcus Klingman
URL:https://middleburyinchamber.com/event/west-on-warren-music-line-up-may/2025-05-10/
LOCATION:West On Warren\, 200 West Warren Street\, Middlebury\, IN\, 46540\, United States
END:VEVENT
BEGIN:VEVENT
DTSTART;TZID=America/Indiana/Indianapolis:20250516T183000
DTEND;TZID=America/Indiana/Indianapolis:20250516T203000
DTSTAMP:20260421T062616
CREATED:20250225T163734Z
LAST-MODIFIED:20250225T163734Z
UID:4513-1747420200-1747427400@middleburyinchamber.com
SUMMARY:West on Warren Music Line Up May
DESCRIPTION:10th Paul Decker\n17th Doug Harsch\n31st Marcus Klingman
URL:https://middleburyinchamber.com/event/west-on-warren-music-line-up-may/2025-05-16/
LOCATION:West On Warren\, 200 West Warren Street\, Middlebury\, IN\, 46540\, United States
END:VEVENT
BEGIN:VEVENT
DTSTART;TZID=America/Indiana/Indianapolis:20250517T183000
DTEND;TZID=America/Indiana/Indianapolis:20250517T203000
DTSTAMP:20260421T062616
CREATED:20250225T163734Z
LAST-MODIFIED:20250225T163734Z
UID:4514-1747506600-1747513800@middleburyinchamber.com
SUMMARY:West on Warren Music Line Up May
DESCRIPTION:10th Paul Decker\n17th Doug Harsch\n31st Marcus Klingman
URL:https://middleburyinchamber.com/event/west-on-warren-music-line-up-may/2025-05-17/
LOCATION:West On Warren\, 200 West Warren Street\, Middlebury\, IN\, 46540\, United States
END:VEVENT
BEGIN:VEVENT
DTSTART;TZID=America/Indiana/Indianapolis:20250531T183000
DTEND;TZID=America/Indiana/Indianapolis:20250531T203000
DTSTAMP:20260421T062616
CREATED:20250225T163734Z
LAST-MODIFIED:20250225T163734Z
UID:4515-1748716200-1748723400@middleburyinchamber.com
SUMMARY:West on Warren Music Line Up May
DESCRIPTION:10th Paul Decker\n17th Doug Harsch\n31st Marcus Klingman
URL:https://middleburyinchamber.com/event/west-on-warren-music-line-up-may/2025-05-31/
LOCATION:West On Warren\, 200 West Warren Street\, Middlebury\, IN\, 46540\, United States
END:VEVENT
END:VCALENDAR