BEGIN:VCALENDAR
VERSION:2.0
PRODID:-//Middlebury Chamber of Commerce - ECPv6.15.20//NONSGML v1.0//EN
CALSCALE:GREGORIAN
METHOD:PUBLISH
X-ORIGINAL-URL:https://middleburyinchamber.com
X-WR-CALDESC:Events for Middlebury Chamber of Commerce
REFRESH-INTERVAL;VALUE=DURATION:PT1H
X-Robots-Tag:noindex
X-PUBLISHED-TTL:PT1H
BEGIN:VTIMEZONE
TZID:America/Indiana/Indianapolis
BEGIN:DAYLIGHT
TZOFFSETFROM:-0500
TZOFFSETTO:-0400
TZNAME:EDT
DTSTART:20220313T070000
END:DAYLIGHT
BEGIN:STANDARD
TZOFFSETFROM:-0400
TZOFFSETTO:-0500
TZNAME:EST
DTSTART:20221106T060000
END:STANDARD
BEGIN:DAYLIGHT
TZOFFSETFROM:-0500
TZOFFSETTO:-0400
TZNAME:EDT
DTSTART:20230312T070000
END:DAYLIGHT
BEGIN:STANDARD
TZOFFSETFROM:-0400
TZOFFSETTO:-0500
TZNAME:EST
DTSTART:20231105T060000
END:STANDARD
BEGIN:DAYLIGHT
TZOFFSETFROM:-0500
TZOFFSETTO:-0400
TZNAME:EDT
DTSTART:20240310T070000
END:DAYLIGHT
BEGIN:STANDARD
TZOFFSETFROM:-0400
TZOFFSETTO:-0500
TZNAME:EST
DTSTART:20241103T060000
END:STANDARD
END:VTIMEZONE
BEGIN:VEVENT
DTSTART;TZID=America/Indiana/Indianapolis:20231214T140000
DTEND;TZID=America/Indiana/Indianapolis:20231214T170000
DTSTAMP:20260423T045031
CREATED:20231206T151701Z
LAST-MODIFIED:20231206T151701Z
UID:3908-1702562400-1702573200@middleburyinchamber.com
SUMMARY:A Very Merry Happy Hour
DESCRIPTION:  \nAt The Mill: Enjoy 25% OFF everything in the ENTIRE building!! That’s right- for THREE HOURS ONLY\, shop Joyfully Said\, The Mustard Seed Marketplace\, and Gathered Goods for 25% off!!! Say whaaaaat?!?!\nAt Living in Yellow: Take 20% off gift cards!! The PERFECT last-minute teacher\, mother-in-law\, sister\, aunt\, best friend (well\, you get the idea) gift!
URL:https://middleburyinchamber.com/event/a-very-merry-happy-hour/
LOCATION:The Mill & Living In Yellow\, 402 & 113 E. Warren Street\, Middlebury\, Indiana\, 46540
END:VEVENT
END:VCALENDAR