BEGIN:VCALENDAR
VERSION:2.0
PRODID:-//Middlebury Chamber of Commerce - ECPv6.15.20//NONSGML v1.0//EN
CALSCALE:GREGORIAN
METHOD:PUBLISH
X-WR-CALNAME:Middlebury Chamber of Commerce
X-ORIGINAL-URL:https://middleburyinchamber.com
X-WR-CALDESC:Events for Middlebury Chamber of Commerce
REFRESH-INTERVAL;VALUE=DURATION:PT1H
X-Robots-Tag:noindex
X-PUBLISHED-TTL:PT1H
BEGIN:VTIMEZONE
TZID:America/Indiana/Indianapolis
BEGIN:DAYLIGHT
TZOFFSETFROM:-0500
TZOFFSETTO:-0400
TZNAME:EDT
DTSTART:20240310T070000
END:DAYLIGHT
BEGIN:STANDARD
TZOFFSETFROM:-0400
TZOFFSETTO:-0500
TZNAME:EST
DTSTART:20241103T060000
END:STANDARD
BEGIN:DAYLIGHT
TZOFFSETFROM:-0500
TZOFFSETTO:-0400
TZNAME:EDT
DTSTART:20250309T070000
END:DAYLIGHT
BEGIN:STANDARD
TZOFFSETFROM:-0400
TZOFFSETTO:-0500
TZNAME:EST
DTSTART:20251102T060000
END:STANDARD
BEGIN:DAYLIGHT
TZOFFSETFROM:-0500
TZOFFSETTO:-0400
TZNAME:EDT
DTSTART:20260308T070000
END:DAYLIGHT
BEGIN:STANDARD
TZOFFSETFROM:-0400
TZOFFSETTO:-0500
TZNAME:EST
DTSTART:20261101T060000
END:STANDARD
BEGIN:DAYLIGHT
TZOFFSETFROM:-0500
TZOFFSETTO:-0400
TZNAME:EDT
DTSTART:20270314T070000
END:DAYLIGHT
BEGIN:STANDARD
TZOFFSETFROM:-0400
TZOFFSETTO:-0500
TZNAME:EST
DTSTART:20271107T060000
END:STANDARD
END:VTIMEZONE
BEGIN:VEVENT
DTSTART;TZID=America/Indiana/Indianapolis:20250620T183000
DTEND;TZID=America/Indiana/Indianapolis:20250620T203000
DTSTAMP:20260422T234632
CREATED:20250225T164011Z
LAST-MODIFIED:20250225T164011Z
UID:4519-1750444200-1750451400@middleburyinchamber.com
SUMMARY:West on Warren Music Line Up June
DESCRIPTION:7th Chris Birch\n14th Jake Michael\n21st Molly Abraham\n27th The Easton West Show\n28th Chris Robinson
URL:https://middleburyinchamber.com/event/west-on-warren-music-line-up-june/2025-06-20/
LOCATION:West On Warren\, 200 West Warren Street\, Middlebury\, IN\, 46540\, United States
END:VEVENT
BEGIN:VEVENT
DTSTART;TZID=America/Indiana/Indianapolis:20250621T183000
DTEND;TZID=America/Indiana/Indianapolis:20250621T203000
DTSTAMP:20260422T234632
CREATED:20250225T164011Z
LAST-MODIFIED:20250225T164011Z
UID:4520-1750530600-1750537800@middleburyinchamber.com
SUMMARY:West on Warren Music Line Up June
DESCRIPTION:7th Chris Birch\n14th Jake Michael\n21st Molly Abraham\n27th The Easton West Show\n28th Chris Robinson
URL:https://middleburyinchamber.com/event/west-on-warren-music-line-up-june/2025-06-21/
LOCATION:West On Warren\, 200 West Warren Street\, Middlebury\, IN\, 46540\, United States
END:VEVENT
BEGIN:VEVENT
DTSTART;TZID=America/Indiana/Indianapolis:20250627T183000
DTEND;TZID=America/Indiana/Indianapolis:20250627T203000
DTSTAMP:20260422T234632
CREATED:20250225T164011Z
LAST-MODIFIED:20250225T164011Z
UID:4521-1751049000-1751056200@middleburyinchamber.com
SUMMARY:West on Warren Music Line Up June
DESCRIPTION:7th Chris Birch\n14th Jake Michael\n21st Molly Abraham\n27th The Easton West Show\n28th Chris Robinson
URL:https://middleburyinchamber.com/event/west-on-warren-music-line-up-june/2025-06-27/
LOCATION:West On Warren\, 200 West Warren Street\, Middlebury\, IN\, 46540\, United States
END:VEVENT
BEGIN:VEVENT
DTSTART;TZID=America/Indiana/Indianapolis:20250628T183000
DTEND;TZID=America/Indiana/Indianapolis:20250628T203000
DTSTAMP:20260422T234632
CREATED:20250225T164011Z
LAST-MODIFIED:20250225T164011Z
UID:4522-1751135400-1751142600@middleburyinchamber.com
SUMMARY:West on Warren Music Line Up June
DESCRIPTION:7th Chris Birch\n14th Jake Michael\n21st Molly Abraham\n27th The Easton West Show\n28th Chris Robinson
URL:https://middleburyinchamber.com/event/west-on-warren-music-line-up-june/2025-06-28/
LOCATION:West On Warren\, 200 West Warren Street\, Middlebury\, IN\, 46540\, United States
END:VEVENT
BEGIN:VEVENT
DTSTART;TZID=America/Indiana/Indianapolis:20250712T183000
DTEND;TZID=America/Indiana/Indianapolis:20250712T203000
DTSTAMP:20260422T234632
CREATED:20250702T155825Z
LAST-MODIFIED:20250702T155847Z
UID:4649-1752345000-1752352200@middleburyinchamber.com
SUMMARY:West on Warren
DESCRIPTION:Music Line up for July \nPaul Decker \n 
URL:https://middleburyinchamber.com/event/west-on-warren-15/
LOCATION:West On Warren\, 200 West Warren Street\, Middlebury\, IN\, 46540\, United States
END:VEVENT
BEGIN:VEVENT
DTSTART;TZID=America/Indiana/Indianapolis:20250715T180000
DTEND;TZID=America/Indiana/Indianapolis:20250715T200000
DTSTAMP:20260422T234632
CREATED:20250702T160133Z
LAST-MODIFIED:20250702T160133Z
UID:4651-1752602400-1752609600@middleburyinchamber.com
SUMMARY:West on Warren
DESCRIPTION:Music Line up for July \n  \nOne Lane Bridge
URL:https://middleburyinchamber.com/event/west-on-warren-16/
LOCATION:West On Warren\, 200 West Warren Street\, Middlebury\, IN\, 46540\, United States
END:VEVENT
BEGIN:VEVENT
DTSTART;TZID=America/Indiana/Indianapolis:20250719T183000
DTEND;TZID=America/Indiana/Indianapolis:20250719T203000
DTSTAMP:20260422T234632
CREATED:20250702T160225Z
LAST-MODIFIED:20250702T160225Z
UID:4653-1752949800-1752957000@middleburyinchamber.com
SUMMARY:West on Warren
DESCRIPTION:Music Line up for July \n  \nKeith Miller
URL:https://middleburyinchamber.com/event/west-on-warren-17/
LOCATION:West On Warren\, 200 West Warren Street\, Middlebury\, IN\, 46540\, United States
END:VEVENT
BEGIN:VEVENT
DTSTART;TZID=America/Indiana/Indianapolis:20250726T183000
DTEND;TZID=America/Indiana/Indianapolis:20250726T203000
DTSTAMP:20260422T234632
CREATED:20250702T160322Z
LAST-MODIFIED:20250702T160322Z
UID:4655-1753554600-1753561800@middleburyinchamber.com
SUMMARY:West on Warren
DESCRIPTION:Music Line up for July
URL:https://middleburyinchamber.com/event/west-on-warren-18/
LOCATION:West On Warren\, 200 West Warren Street\, Middlebury\, IN\, 46540\, United States
END:VEVENT
BEGIN:VEVENT
DTSTART;TZID=America/Indiana/Indianapolis:20250812T170000
DTEND;TZID=America/Indiana/Indianapolis:20250812T190000
DTSTAMP:20260422T234632
CREATED:20250806T195355Z
LAST-MODIFIED:20250806T195355Z
UID:4668-1755018000-1755025200@middleburyinchamber.com
SUMMARY:After Hours with All Things Snacks
DESCRIPTION:Business After Hours hosted by All Things Snacks\nAugust 12 from 5 – 7 pm\n335 N Main St in Middlebury\, also known as The Creamery\n\n\nPlease join us for an evening of food and fun as we celebrate the 1 Year Anniversary of All Things Snacks location in Middlebury! Be ready to sample snacks\, network and experience the atmosphere.\n\n\nWith two locations\, Elkhart and Middlebury\, All Things Snacks is here to help with cravings\, both sweet and salty. The Middlebury location is your prime place for a full-on snack experience. We are more than just puffs!\n\n\nFree to attend; pre-registration requested a https://www.elkhart.org/…/business-after-hours-hosted…/
URL:https://middleburyinchamber.com/event/after-hours-with-all-things-snacks/
LOCATION:The Creamery on Main\, 335 N. Main Street\, Middlebury\, IN\, 46540\, United States
END:VEVENT
BEGIN:VEVENT
DTSTART;TZID=America/Indiana/Indianapolis:20250823T183000
DTEND;TZID=America/Indiana/Indianapolis:20250823T203000
DTSTAMP:20260422T234632
CREATED:20250814T142322Z
LAST-MODIFIED:20250814T142346Z
UID:4678-1755973800-1755981000@middleburyinchamber.com
SUMMARY:Music at West on Warren
DESCRIPTION:August 15 Peck N Fry \nAugust 23 Marcus Klingman \n 
URL:https://middleburyinchamber.com/event/music-at-west-on-warren/
LOCATION:IN
END:VEVENT
BEGIN:VEVENT
DTSTART;TZID=America/Indiana/Indianapolis:20251004T180000
DTEND;TZID=America/Indiana/Indianapolis:20251004T200000
DTSTAMP:20260422T234632
CREATED:20250922T133812Z
LAST-MODIFIED:20250922T133812Z
UID:4704-1759600800-1759608000@middleburyinchamber.com
SUMMARY:Music at West on Warren
DESCRIPTION:Lexi Adams
URL:https://middleburyinchamber.com/event/music-at-west-on-warren-2/
LOCATION:West On Warren\, 200 West Warren Street\, Middlebury\, IN\, 46540\, United States
END:VEVENT
BEGIN:VEVENT
DTSTART;TZID=America/Indiana/Indianapolis:20251024T170000
DTEND;TZID=America/Indiana/Indianapolis:20251024T190000
DTSTAMP:20260422T234632
CREATED:20251015T131933Z
LAST-MODIFIED:20251015T131933Z
UID:4740-1761325200-1761332400@middleburyinchamber.com
SUMMARY:LoveWay Boo-Nanza
DESCRIPTION:Barn Boo-Nanza Full Flyer 2025
URL:https://middleburyinchamber.com/event/loveway-boo-nanza/
LOCATION:IN
END:VEVENT
BEGIN:VEVENT
DTSTART;TZID=America/Indiana/Indianapolis:20251028T170000
DTEND;TZID=America/Indiana/Indianapolis:20251028T190000
DTSTAMP:20260422T234632
CREATED:20251015T132058Z
LAST-MODIFIED:20251015T132058Z
UID:4743-1761670800-1761678000@middleburyinchamber.com
SUMMARY:Grief Walk at Ox bow park
DESCRIPTION:Grief walk
URL:https://middleburyinchamber.com/event/grief-walk-at-ox-bow-park/
LOCATION:IN
END:VEVENT
BEGIN:VEVENT
DTSTART;VALUE=DATE:20251121
DTEND;VALUE=DATE:20251123
DTSTAMP:20260422T234632
CREATED:20251006T174208Z
LAST-MODIFIED:20260209T214216Z
UID:4718-1763683200-1763855999@middleburyinchamber.com
SUMMARY:Hometown Holidays
DESCRIPTION:Join us for hometown holidays 2026\, November 20 and 21 \npresented by Varns and Hoover
URL:https://middleburyinchamber.com/event/hometown-holidays-2/
LOCATION:IN
END:VEVENT
BEGIN:VEVENT
DTSTART;TZID=America/Indiana/Indianapolis:20251129T180000
DTEND;TZID=America/Indiana/Indianapolis:20251129T200000
DTSTAMP:20260422T234632
CREATED:20251006T174329Z
LAST-MODIFIED:20251006T174329Z
UID:4720-1764439200-1764446400@middleburyinchamber.com
SUMMARY:Lighting of the Christmas Tree
DESCRIPTION:November 29th at 6 pm come join us in memorial park for cookies and coco with santa and the light of the tree at dusk.
URL:https://middleburyinchamber.com/event/lighting-of-the-christmas-tree/
LOCATION:IN
END:VEVENT
BEGIN:VEVENT
DTSTART;VALUE=DATE:20260515
DTEND;VALUE=DATE:20260517
DTSTAMP:20260422T234632
CREATED:20250106T172703Z
LAST-MODIFIED:20260218T182318Z
UID:4474-1778803200-1778975999@middleburyinchamber.com
SUMMARY:Community Garage Sale 2026
DESCRIPTION:Forms are available at the Middlebury Chamber of Commerce and Visitors Center\, 118 S. Main Street\, in March.
URL:https://middleburyinchamber.com/event/garage-sale-2025/
LOCATION:IN
END:VEVENT
BEGIN:VEVENT
DTSTART;TZID=America/Indiana/Indianapolis:20260608T170000
DTEND;TZID=America/Indiana/Indianapolis:20260608T200000
DTSTAMP:20260422T234632
CREATED:20250106T173031Z
LAST-MODIFIED:20260218T181506Z
UID:4476-1780938000-1780948800@middleburyinchamber.com
SUMMARY:Chamber Member's Annual Dinner and Business Expo
DESCRIPTION:Do not miss this opportunity to enjoy dinner and entertainment while marketing your products and services with other business participants.
URL:https://middleburyinchamber.com/event/dinner-and-business-expo/
LOCATION:Northridge High School\, 56779 Northridge Drive\, Middlebury\, IN\, 46540\, United States
END:VEVENT
BEGIN:VEVENT
DTSTART;TZID=America/Indiana/Indianapolis:20260608T170000
DTEND;TZID=America/Indiana/Indianapolis:20260608T200000
DTSTAMP:20260422T234632
CREATED:20240116T160215Z
LAST-MODIFIED:20260218T184056Z
UID:3922-1780938000-1780948800@middleburyinchamber.com
SUMMARY:Chamber Annual Dinner & Business Expo
DESCRIPTION:The Middlebury Chamber of Commerce and Visitor Center cordially invites you to their 23 rd Annual Dinner & Business Expo on Monday\, June 8\, 2026\, from 5:00 pm to 8:00 pm. \n5:00 pm to 6:30 pm Business Expo with refreshments and entertainment. \n6:30 pm Dinner \nThe event will be held at\nNorthridge High School Cafeteria\n56779 Northridge Drive\nEnter through door #15 or #21 \nInvite your spouse\, family\, friends\, key employees\, and special guests.\nClick the link to make your reservations online.\nReservations must be received by \nTo be included in the marketing material\, please register no later than May 27\, 2026 \nRegistration will be available online\, by phone\, or by mail.
URL:https://middleburyinchamber.com/event/chamber-annual-dinner-business-expo/
LOCATION:IN
CATEGORIES:Community Event Forms,Government
END:VEVENT
BEGIN:VEVENT
DTSTART;VALUE=DATE:20260626
DTEND;VALUE=DATE:20260628
DTSTAMP:20260422T234632
CREATED:20250106T173242Z
LAST-MODIFIED:20260218T182003Z
UID:4478-1782432000-1782604799@middleburyinchamber.com
SUMMARY:Summer Festival & Parade
DESCRIPTION:For Vendor Applications and Sponsorship Forms contact carmencarpenter@middleburyinchamber.com
URL:https://middleburyinchamber.com/event/summer-festival-3/
LOCATION:Memorial Park\, 105 N. Main Street\, Middlebury\, IN\, 46540
END:VEVENT
END:VCALENDAR