BEGIN:VCALENDAR
VERSION:2.0
PRODID:-//Middlebury Chamber of Commerce - ECPv6.15.20//NONSGML v1.0//EN
CALSCALE:GREGORIAN
METHOD:PUBLISH
X-WR-CALNAME:Middlebury Chamber of Commerce
X-ORIGINAL-URL:https://middleburyinchamber.com
X-WR-CALDESC:Events for Middlebury Chamber of Commerce
REFRESH-INTERVAL;VALUE=DURATION:PT1H
X-Robots-Tag:noindex
X-PUBLISHED-TTL:PT1H
BEGIN:VTIMEZONE
TZID:America/Indiana/Indianapolis
BEGIN:DAYLIGHT
TZOFFSETFROM:-0500
TZOFFSETTO:-0400
TZNAME:EDT
DTSTART:20210314T070000
END:DAYLIGHT
BEGIN:STANDARD
TZOFFSETFROM:-0400
TZOFFSETTO:-0500
TZNAME:EST
DTSTART:20211107T060000
END:STANDARD
BEGIN:DAYLIGHT
TZOFFSETFROM:-0500
TZOFFSETTO:-0400
TZNAME:EDT
DTSTART:20220313T070000
END:DAYLIGHT
BEGIN:STANDARD
TZOFFSETFROM:-0400
TZOFFSETTO:-0500
TZNAME:EST
DTSTART:20221106T060000
END:STANDARD
BEGIN:DAYLIGHT
TZOFFSETFROM:-0500
TZOFFSETTO:-0400
TZNAME:EDT
DTSTART:20230312T070000
END:DAYLIGHT
BEGIN:STANDARD
TZOFFSETFROM:-0400
TZOFFSETTO:-0500
TZNAME:EST
DTSTART:20231105T060000
END:STANDARD
END:VTIMEZONE
BEGIN:VEVENT
DTSTART;TZID=America/Indiana/Indianapolis:20221021T180000
DTEND;TZID=America/Indiana/Indianapolis:20221021T200000
DTSTAMP:20260421T182103
CREATED:20220215T162105Z
LAST-MODIFIED:20220215T162105Z
UID:3111-1666375200-1666382400@middleburyinchamber.com
SUMMARY:Hometown Harvest
DESCRIPTION:Join us for a hayride\, campfire\, hot dogs & s’mores for the entire family. Bring a chair or blanket. Appropriate for all ages. Free admission. Trestle Terrace.
URL:https://middleburyinchamber.com/event/hometown-harvest/
LOCATION:IN
END:VEVENT
BEGIN:VEVENT
DTSTART;TZID=America/Indiana/Indianapolis:20221202T170000
DTEND;TZID=America/Indiana/Indianapolis:20221202T190000
DTSTAMP:20260421T182103
CREATED:20220215T162146Z
LAST-MODIFIED:20220215T162146Z
UID:3113-1670000400-1670007600@middleburyinchamber.com
SUMMARY:Gingerbread Jamboree
DESCRIPTION:Put on your creative chef’s hat and enter the annual gingerbread competition! Creations can be more than gingerbread….use anything edible. Cash prizes will be awarded in 3 age/group categories. Bring your completed items to the Middlebury Community Historical Museum on Tuesday\, November 29 for closed judging.
URL:https://middleburyinchamber.com/event/gingerbread-jamboree-3/
LOCATION:IN
END:VEVENT
BEGIN:VEVENT
DTSTART;TZID=America/Indiana/Indianapolis:20221203T100000
DTEND;TZID=America/Indiana/Indianapolis:20221203T180000
DTSTAMP:20260421T182103
CREATED:20220215T162212Z
LAST-MODIFIED:20220215T162212Z
UID:3115-1670061600-1670090400@middleburyinchamber.com
SUMMARY:Gingerbread Jamboree
DESCRIPTION:Put on your creative chef’s hat and enter the annual gingerbread competition! Creations can be more than gingerbread….use anything edible. Cash prizes will be awarded in 3 age/group categories. Bring your completed items to the Middlebury Community Historical Museum on Tuesday\, November 29 for closed judging.
URL:https://middleburyinchamber.com/event/gingerbread-jamboree-4/
LOCATION:IN
END:VEVENT
BEGIN:VEVENT
DTSTART;TZID=America/Indiana/Indianapolis:20221204T130000
DTEND;TZID=America/Indiana/Indianapolis:20221204T150000
DTSTAMP:20260421T182103
CREATED:20220215T160651Z
LAST-MODIFIED:20220215T161210Z
UID:3117-1670158800-1670166000@middleburyinchamber.com
SUMMARY:Gingerbread Jamboree
DESCRIPTION:Put on your creative chef’s hat and enter the annual gingerbread competition! Creations can be more than gingerbread….use anything edible. Cash prizes will be awarded in 3 age/group categories. Bring your completed items to the Middlebury Community Historical Museum on Tuesday\, November 29 for closed judging.
URL:https://middleburyinchamber.com/event/gingerbread-jamboree-2/
LOCATION:IN
END:VEVENT
BEGIN:VEVENT
DTSTART;TZID=America/Indiana/Indianapolis:20221216T173000
DTEND;TZID=America/Indiana/Indianapolis:20221216T203000
DTSTAMP:20260421T182103
CREATED:20221205T184853Z
LAST-MODIFIED:20221205T184853Z
UID:3529-1671211800-1671222600@middleburyinchamber.com
SUMMARY:ADEC's Giving Tree at Winter Wonderland Holiday Lights
DESCRIPTION:The Giving Trees are cut\, evergreen trees\, displayed on anchored stands\, arranged along the Promenade\nthrough the holiday lights. The trees are decorated by our selected community partners. This year there\nare 17 Giving Trees\, each representing a day of our scheduled Winter Wonderland Holiday Lights:\nNovember 25-26-27 and December 2-3-4; 9-10-11; 16-23. ADEC’s Special Day is December 16th where a percentage of all ticket sales will be donated to our organization.\n● Each organization’s evening date are selected/assigned at random\n● Partners will receive a percentage of that evening’s total ticket revenue (including both presales
URL:https://middleburyinchamber.com/event/adecs-giving-tree-at-winter-wonderland-holiday-lights/
LOCATION:IN
END:VEVENT
END:VCALENDAR