BEGIN:VCALENDAR
VERSION:2.0
PRODID:-//Middlebury Chamber of Commerce - ECPv6.15.20//NONSGML v1.0//EN
CALSCALE:GREGORIAN
METHOD:PUBLISH
X-WR-CALNAME:Middlebury Chamber of Commerce
X-ORIGINAL-URL:https://middleburyinchamber.com
X-WR-CALDESC:Events for Middlebury Chamber of Commerce
REFRESH-INTERVAL;VALUE=DURATION:PT1H
X-Robots-Tag:noindex
X-PUBLISHED-TTL:PT1H
BEGIN:VTIMEZONE
TZID:America/Indiana/Indianapolis
BEGIN:DAYLIGHT
TZOFFSETFROM:-0500
TZOFFSETTO:-0400
TZNAME:EDT
DTSTART:20210314T070000
END:DAYLIGHT
BEGIN:STANDARD
TZOFFSETFROM:-0400
TZOFFSETTO:-0500
TZNAME:EST
DTSTART:20211107T060000
END:STANDARD
BEGIN:DAYLIGHT
TZOFFSETFROM:-0500
TZOFFSETTO:-0400
TZNAME:EDT
DTSTART:20220313T070000
END:DAYLIGHT
BEGIN:STANDARD
TZOFFSETFROM:-0400
TZOFFSETTO:-0500
TZNAME:EST
DTSTART:20221106T060000
END:STANDARD
BEGIN:DAYLIGHT
TZOFFSETFROM:-0500
TZOFFSETTO:-0400
TZNAME:EDT
DTSTART:20230312T070000
END:DAYLIGHT
BEGIN:STANDARD
TZOFFSETFROM:-0400
TZOFFSETTO:-0500
TZNAME:EST
DTSTART:20231105T060000
END:STANDARD
END:VTIMEZONE
BEGIN:VTIMEZONE
TZID:UTC
BEGIN:STANDARD
TZOFFSETFROM:+0000
TZOFFSETTO:+0000
TZNAME:UTC
DTSTART:20210101T000000
END:STANDARD
END:VTIMEZONE
BEGIN:VEVENT
DTSTART;TZID=America/Indiana/Indianapolis:20220415T160000
DTEND;TZID=America/Indiana/Indianapolis:20220415T180000
DTSTAMP:20260422T181444
CREATED:20220201T181023Z
LAST-MODIFIED:20220215T140247Z
UID:3040-1650038400-1650045600@middleburyinchamber.com
SUMMARY:Hop Into Spring
DESCRIPTION:
URL:https://middleburyinchamber.com/event/hop-into-spring/
END:VEVENT
BEGIN:VEVENT
DTSTART;TZID=America/Indiana/Indianapolis:20220427T000000
DTEND;TZID=America/Indiana/Indianapolis:20220427T000000
DTSTAMP:20260422T181444
CREATED:20220201T181133Z
LAST-MODIFIED:20220201T181148Z
UID:3041-1651017600-1651017600@middleburyinchamber.com
SUMMARY:Wetlands And Wildflower Walk
DESCRIPTION:
URL:https://middleburyinchamber.com/event/wetlands-and-wildflower-walk/
END:VEVENT
BEGIN:VEVENT
DTSTART;TZID=America/Indiana/Indianapolis:20220510T133000
DTEND;TZID=America/Indiana/Indianapolis:20220510T143000
DTSTAMP:20260422T181444
CREATED:20220405T192411Z
LAST-MODIFIED:20220405T192411Z
UID:3252-1652189400-1652193000@middleburyinchamber.com
SUMMARY:Middlebury Old Timers Meeting
DESCRIPTION:Fun for all ages\, free admission.
URL:https://middleburyinchamber.com/event/middlebury-old-timers-meeting/
LOCATION:Essenhaus Campus
CATEGORIES:Community Event Forms
END:VEVENT
BEGIN:VEVENT
DTSTART;TZID=America/Indiana/Indianapolis:20220520T160000
DTEND;TZID=America/Indiana/Indianapolis:20220520T180000
DTSTAMP:20260422T181444
CREATED:20220215T151235Z
LAST-MODIFIED:20220215T151235Z
UID:3091-1653062400-1653069600@middleburyinchamber.com
SUMMARY:Flower Power
DESCRIPTION:Indiana Wild will be presenting a live animal show. While supplies last\, participants can build a wooden butterfly house and/or paper butterflies. Appropriate for all ages. Free admission. Memorial Park
URL:https://middleburyinchamber.com/event/flower-power/
END:VEVENT
BEGIN:VEVENT
DTSTART;TZID=America/Indiana/Indianapolis:20220604T080000
DTEND;TZID=America/Indiana/Indianapolis:20220604T093000
DTSTAMP:20260422T181444
CREATED:20220531T210031Z
LAST-MODIFIED:20220531T210049Z
UID:3443-1654329600-1654335000@middleburyinchamber.com
SUMMARY:Cars & Coffee~ Skinny Guy Campers
DESCRIPTION:
URL:https://middleburyinchamber.com/event/cars-coffee-skinny-guy-campers/
LOCATION:Skinny Guy Campers\, 19974 Co Rd 6\, Bristol\, IN\, 46507
ORGANIZER;CN="Skinny Guy Campers":MAILTO:jason@skinnyguycampers.com
END:VEVENT
BEGIN:VEVENT
DTSTART;TZID=America/Indiana/Indianapolis:20220604T090000
DTEND;TZID=America/Indiana/Indianapolis:20220604T140000
DTSTAMP:20260422T181444
CREATED:20220210T180005Z
LAST-MODIFIED:20220210T180005Z
UID:3080-1654333200-1654351200@middleburyinchamber.com
SUMMARY:Cruise in for a Cause at Royal!
DESCRIPTION:Cruise in for a Cause at Royal RV & Auto Center!\nOur 1st Annual Car Show with proceeds being donated to Boys & Girls Clubs of Elkhart County.\n$10 Vehicle Entry Fee (Cars\, Trucks\, Motorcycles & Semi’s)\nGeneral Admission is FREE\nFood Trucks! Kid’s Corner! 50/50 Raffle! Facility Tours!\nEveryone is Welcome!
URL:https://middleburyinchamber.com/event/cruise-in-for-a-cause-at-royal/
END:VEVENT
BEGIN:VEVENT
DTSTART;TZID=America/Indiana/Indianapolis:20220611T090000
DTEND;TZID=America/Indiana/Indianapolis:20220611T150000
DTSTAMP:20260422T181444
CREATED:20220210T180334Z
LAST-MODIFIED:20220223T184544Z
UID:3082-1654938000-1654959600@middleburyinchamber.com
SUMMARY:The Mill Summer Artisan Market
DESCRIPTION:The Mill’s circle drive will be lined with the area’s best handmade and vintage vendors while the smell of food trucks and the sound of live music will be filling the air. You’ll find all this and more at the 2022 Summer Artisan Market! This year’s market takes place on Saturday\, June 11th from 9 am-3 pm\, so mark your calendar! Location: 402 E. Warren St. Middlebury\, IN.
URL:https://middleburyinchamber.com/event/the-mill-summer-artisan-market/
END:VEVENT
BEGIN:VEVENT
DTSTART;TZID=America/Indiana/Indianapolis:20220611T170000
DTEND;TZID=America/Indiana/Indianapolis:20220611T193000
DTSTAMP:20260422T181444
CREATED:20220426T154457Z
LAST-MODIFIED:20220426T154457Z
UID:3302-1654966800-1654975800@middleburyinchamber.com
SUMMARY:MIDDLEBURY HIGH SCHOOL ALUMNI DINNER
DESCRIPTION:All graduates and attendees of Middlebury High School (1934 – 1969) are invited and encouraged to attend the annual alumni dinner meeting.  The classes of 1962\, 1952\, and 1942 will have a special Middlebury Middies recognition. \nMiddlebury H.S. Alumni Banquet \nSaturday\, June 11\, 2022 \nMiddlebury Elementary School Gymnasium \n5:00 p.m. Social Hour / Building Tour \n5:45 p.m. Dinner Catered by Rulli’s \n6:30 p.m. Program / Alumni Meeting \n  \nFor Reservations\, send $20/person by May 26\, 2022\, to \nMiddlebury Alumni Association \nP.O. Box 903 \nMiddlebury\, IN   46540 \nPlease include: Name\, Year of Graduation or Attendance\, Name(s) of Guests \nChecks made payable to the “Middlebury Alumni Association” \n  \nContact Patti at 574-825-9185 if you have questions or a need for more information\, \nALUMNI COMMITTEE: Past President Lowell Miller\, President Janet Weirich Eby (1962)\, Vice President Dick Cook (1963)\, Treasurer Linda Garber (1960)\, Secretary Patti Kindy Weirich (1969). Sharron Troyer Lemmon (1963)\, Vern Miller (1963)\, and Alumni Advisor Mitch Miller.
URL:https://middleburyinchamber.com/event/middlebury-high-school-alumni-dinner/
END:VEVENT
BEGIN:VEVENT
DTSTART;TZID=America/Indiana/Indianapolis:20220617T190000
DTEND;TZID=America/Indiana/Indianapolis:20220617T210000
DTSTAMP:20260422T181444
CREATED:20220215T160935Z
LAST-MODIFIED:20220607T155320Z
UID:3097-1655492400-1655499600@middleburyinchamber.com
SUMMARY:Flashback Friday Movie in the Park
DESCRIPTION:Family-friendly movie at 8:00 at Riverbend Park. Bring a chair or blanket. Free admission.
URL:https://middleburyinchamber.com/event/flashback-friday-movie-in-the-park/
END:VEVENT
BEGIN:VEVENT
DTSTART;TZID=UTC:20220618T070000
DTEND;TZID=UTC:20220618T070000
DTSTAMP:20260422T181444
CREATED:20190206T222606Z
LAST-MODIFIED:20220411T134708Z
UID:1115-1655535600-1655535600@middleburyinchamber.com
SUMMARY:Annual Pumpkinvine Bike Ride
DESCRIPTION:Registration is now open! \n \nThe 22\, 36\, and 50-mile routes wind through farmland and small towns\, giving riders a true Amish Country experience. \nRegister at https://www.eventbright.com/e/2022-pumpkinvine-bike-june-18-check-in-at-700-am-edit-registration-290063396427
URL:https://middleburyinchamber.com/event/annual-pumpkinvine-bike-ride/
END:VEVENT
BEGIN:VEVENT
DTSTART;TZID=America/Indiana/Indianapolis:20220709T100000
DTEND;TZID=America/Indiana/Indianapolis:20220709T120000
DTSTAMP:20260422T181444
CREATED:20220215T162245Z
LAST-MODIFIED:20220215T162245Z
UID:3119-1657360800-1657368000@middleburyinchamber.com
SUMMARY:Middlebury Reading Invasion
DESCRIPTION:Take a break from your busy schedule and take time to read. Bring your book (paper or electronic device)\, a chair or blanket and invade the library lawn or East Park (library interior for inclement weather). Appropriate for all ages. Free admission.
URL:https://middleburyinchamber.com/event/middlebury-reading-invasion/
END:VEVENT
BEGIN:VEVENT
DTSTART;TZID=America/Indiana/Indianapolis:20220715T190000
DTEND;TZID=America/Indiana/Indianapolis:20220715T210000
DTSTAMP:20260422T181444
CREATED:20220215T161136Z
LAST-MODIFIED:20220607T154412Z
UID:3099-1657911600-1657918800@middleburyinchamber.com
SUMMARY:Flashback Friday Movie in the Park
DESCRIPTION:Family-friendly movie at 8:00 at Riverbend Park. Bring a chair or blanket. Free admission.
URL:https://middleburyinchamber.com/event/flashback-friday-movie-in-the-park-2/
END:VEVENT
END:VCALENDAR