BEGIN:VCALENDAR
VERSION:2.0
PRODID:-//Middlebury Chamber of Commerce - ECPv6.15.20//NONSGML v1.0//EN
CALSCALE:GREGORIAN
METHOD:PUBLISH
X-WR-CALNAME:Middlebury Chamber of Commerce
X-ORIGINAL-URL:https://middleburyinchamber.com
X-WR-CALDESC:Events for Middlebury Chamber of Commerce
REFRESH-INTERVAL;VALUE=DURATION:PT1H
X-Robots-Tag:noindex
X-PUBLISHED-TTL:PT1H
BEGIN:VTIMEZONE
TZID:America/Indiana/Indianapolis
BEGIN:DAYLIGHT
TZOFFSETFROM:-0500
TZOFFSETTO:-0400
TZNAME:EDT
DTSTART:20210314T070000
END:DAYLIGHT
BEGIN:STANDARD
TZOFFSETFROM:-0400
TZOFFSETTO:-0500
TZNAME:EST
DTSTART:20211107T060000
END:STANDARD
BEGIN:DAYLIGHT
TZOFFSETFROM:-0500
TZOFFSETTO:-0400
TZNAME:EDT
DTSTART:20220313T070000
END:DAYLIGHT
BEGIN:STANDARD
TZOFFSETFROM:-0400
TZOFFSETTO:-0500
TZNAME:EST
DTSTART:20221106T060000
END:STANDARD
BEGIN:DAYLIGHT
TZOFFSETFROM:-0500
TZOFFSETTO:-0400
TZNAME:EDT
DTSTART:20230312T070000
END:DAYLIGHT
BEGIN:STANDARD
TZOFFSETFROM:-0400
TZOFFSETTO:-0500
TZNAME:EST
DTSTART:20231105T060000
END:STANDARD
END:VTIMEZONE
BEGIN:VEVENT
DTSTART;TZID=America/Indiana/Indianapolis:20220205T090000
DTEND;TZID=America/Indiana/Indianapolis:20220205T100000
DTSTAMP:20260421T113231
CREATED:20220124T142416Z
LAST-MODIFIED:20220124T142552Z
UID:3032-1644051600-1644055200@middleburyinchamber.com
SUMMARY:Third House Zoom Event
DESCRIPTION:MIDDLEBURY CHAMBER OF COMMERCE & VISITORS\nCENTER PROVIDES ACCESS TO LOCAL\, COUNTY\, STATE\nPOLITICAL LEADERS AND POLICYMAKERS. 2022 THIRD\nHOUSE SESSION WILL BE VIRTUAL THIS YEAR. WE WILL BE\nUSING ZOOM TO CONDUCT THE SESSION PROVIDES A\nFORUM FOR COMMUNITY MEMBERS TO DISCUSS PENDING\nLEGISLATION WITH ELECTED REPRESENTATIVES SENATOR\nBLAKE DORIOT\, REPRESENTATIVE JOANNA KING\, AND\nREPRESENTATIVE DOUG MILLER.\nTHE EVENT IS FREE AND OPEN TO THE PUBLIC TO JOIN.\nCARMEN CARPENTER IS INVITING YOU TO A SCHEDULED\nZOOM MEETING.\nTOPIC: THIRD HOUSE\nTIME: FEB 5\, 2022 09:00 AM INDIANA (EAST)\nJOIN ZOOM MEETING\nHTTPS://US02WEB.ZOOM.US/J/82772372509?\nPWD=NTJUDTBNRHJGRKVHV3AWNY9XBMT1UT09\nMEETING ID: 827 7237 2509\nPASSCODE: 370780\nSaturday\, February 5\, 2022\n9 AM
URL:https://middleburyinchamber.com/event/third-house-zoom-event/
ORGANIZER;CN="Middlebury Chamber of Commerce & Visitors Center":MAILTO:director@middleburyinchamber.com
END:VEVENT
BEGIN:VEVENT
DTSTART;TZID=America/Indiana/Indianapolis:20220222T180000
DTEND;TZID=America/Indiana/Indianapolis:20220222T190000
DTSTAMP:20260421T113231
CREATED:20220203T193953Z
LAST-MODIFIED:20220203T193953Z
UID:3075-1645552800-1645556400@middleburyinchamber.com
SUMMARY:Summer Festival Meeting
DESCRIPTION:
URL:https://middleburyinchamber.com/event/summer-festival-meeting/
LOCATION:Middlebury Community Public Library\, 101 E Winslow Street\, IN\, 46540\, United States
ORGANIZER;CN="Middlebury Chamber of Commerce & Visitors Center":MAILTO:director@middleburyinchamber.com
END:VEVENT
BEGIN:VEVENT
DTSTART;TZID=America/Indiana/Indianapolis:20220226T080000
DTEND;TZID=America/Indiana/Indianapolis:20220226T160000
DTSTAMP:20260421T113231
CREATED:20211028T153549Z
LAST-MODIFIED:20211028T153549Z
UID:2834-1645862400-1645891200@middleburyinchamber.com
SUMMARY:Michiana Master Gardeners Garden Expo
DESCRIPTION:
URL:https://middleburyinchamber.com/event/michiana-master-gardeners-garden-expo/
LOCATION:Northern Indiana Event Center
END:VEVENT
BEGIN:VEVENT
DTSTART;TZID=America/Indiana/Indianapolis:20220322T150000
DTEND;TZID=America/Indiana/Indianapolis:20220324T170000
DTSTAMP:20260421T113231
CREATED:20220215T164748Z
LAST-MODIFIED:20220215T164748Z
UID:3143-1647961200-1648141200@middleburyinchamber.com
SUMMARY:Bowl for Kid's Sake
DESCRIPTION:
URL:https://middleburyinchamber.com/event/bowl-for-kids-sake/
ORGANIZER;CN="Big Brothers Big Sisters":MAILTO:Liz@becomeabig.com
END:VEVENT
BEGIN:VEVENT
DTSTART;TZID=America/Indiana/Indianapolis:20220414T183000
DTEND;TZID=America/Indiana/Indianapolis:20220414T200000
DTSTAMP:20260421T113231
CREATED:20220316T160729Z
LAST-MODIFIED:20220316T160729Z
UID:3202-1649961000-1649966400@middleburyinchamber.com
SUMMARY:Living Last Supper
DESCRIPTION:Relive the Last Supper at this free event\nTwo Showings: April 14th and April 16th at 6:30 PM\nAround the year 1495 Leonardo da Vinci was commissioned to paint the walls at Santa Maria del Grazie in Milan\, Italy. There he painted one of the most famous works of art of all time—the Last Supper. It is said to depict the moment immediately following Christ’s dramatic announcement to his disciples… “one of you will betray Me…” \nSome have said that pictures can speak a thousand words. If that is the case\, what might we hear if we choose to listen? \nEncounter the twelve men that were chosen to walk with Jesus. In this live dramatic portrayal of the Last Supper\, you will hear from each of them\, discover their experiences\, relive the betrayal of one\, and unearth the truths they learned. Their testimonies date back centuries\, but serve as timeless lessons for today. \nThis drama is suitable for all ages. Light refreshments will be served after.\nSeating is limited. If you are planning on attending please reserve your seat by calling 574-584-6744
URL:https://middleburyinchamber.com/event/living-last-supper/
END:VEVENT
END:VCALENDAR