BEGIN:VCALENDAR
VERSION:2.0
PRODID:-//Middlebury Chamber of Commerce - ECPv6.15.20//NONSGML v1.0//EN
CALSCALE:GREGORIAN
METHOD:PUBLISH
X-WR-CALNAME:Middlebury Chamber of Commerce
X-ORIGINAL-URL:https://middleburyinchamber.com
X-WR-CALDESC:Events for Middlebury Chamber of Commerce
REFRESH-INTERVAL;VALUE=DURATION:PT1H
X-Robots-Tag:noindex
X-PUBLISHED-TTL:PT1H
BEGIN:VTIMEZONE
TZID:UTC
BEGIN:STANDARD
TZOFFSETFROM:+0000
TZOFFSETTO:+0000
TZNAME:UTC
DTSTART:20200101T000000
END:STANDARD
END:VTIMEZONE
BEGIN:VEVENT
DTSTART;VALUE=DATE:20210813
DTEND;VALUE=DATE:20210815
DTSTAMP:20260421T185235
CREATED:20200110T203232Z
LAST-MODIFIED:20210301T202824Z
UID:1822-1628812800-1628985599@middleburyinchamber.com
SUMMARY:Summer Festival
DESCRIPTION:
URL:https://middleburyinchamber.com/event/summer-festival/
LOCATION:Memorial Park\, 105 N. Main Street\, Middlebury\, IN\, 46540
CATEGORIES:Arts & Crafts
END:VEVENT
BEGIN:VEVENT
DTSTART;TZID=UTC:20210813T113000
DTEND;TZID=UTC:20210813T170000
DTSTAMP:20260421T185235
CREATED:20200110T202643Z
LAST-MODIFIED:20210301T202452Z
UID:1815-1628854200-1628874000@middleburyinchamber.com
SUMMARY:Middlebury Chamber Golf Classic
DESCRIPTION:
URL:https://middleburyinchamber.com/event/middlebury-chamber-golf-classic/
LOCATION:Meadow Valley Golf Club\, 57600 SR 13\, Middlebury\, IN\, 46540\, United States
ORGANIZER;CN="Middlebury Chamber of Commerce & Visitors Center":MAILTO:director@middleburyinchamber.com
END:VEVENT
END:VCALENDAR